BEGIN:VCALENDAR
VERSION:2.0
PRODID:-//Go Green Deerfield - ECPv6.15.20//NONSGML v1.0//EN
CALSCALE:GREGORIAN
METHOD:PUBLISH
X-ORIGINAL-URL:https://gogreendeerfield.org
X-WR-CALDESC:Events for Go Green Deerfield
REFRESH-INTERVAL;VALUE=DURATION:PT1H
X-Robots-Tag:noindex
X-PUBLISHED-TTL:PT1H
BEGIN:VTIMEZONE
TZID:America/Chicago
BEGIN:DAYLIGHT
TZOFFSETFROM:-0600
TZOFFSETTO:-0500
TZNAME:CDT
DTSTART:20240310T080000
END:DAYLIGHT
BEGIN:STANDARD
TZOFFSETFROM:-0500
TZOFFSETTO:-0600
TZNAME:CST
DTSTART:20241103T070000
END:STANDARD
BEGIN:DAYLIGHT
TZOFFSETFROM:-0600
TZOFFSETTO:-0500
TZNAME:CDT
DTSTART:20250309T080000
END:DAYLIGHT
BEGIN:STANDARD
TZOFFSETFROM:-0500
TZOFFSETTO:-0600
TZNAME:CST
DTSTART:20251102T070000
END:STANDARD
BEGIN:DAYLIGHT
TZOFFSETFROM:-0600
TZOFFSETTO:-0500
TZNAME:CDT
DTSTART:20260308T080000
END:DAYLIGHT
BEGIN:STANDARD
TZOFFSETFROM:-0500
TZOFFSETTO:-0600
TZNAME:CST
DTSTART:20261101T070000
END:STANDARD
END:VTIMEZONE
BEGIN:VEVENT
DTSTART;TZID=America/Chicago:20250503T090000
DTEND;TZID=America/Chicago:20250503T110000
DTSTAMP:20260424T004434
CREATED:20250428T023010Z
LAST-MODIFIED:20250428T023249Z
UID:2357-1746262800-1746270000@gogreendeerfield.org
SUMMARY:Highland Park EV show and Arbor Day Celebration
DESCRIPTION:Go Green Highland Park\, in association with the City of Highland Park’s Arbor Day event\, will be hosting an EV show. We will offer a wide variety of the available EVs with the opportunity to learn from both owners and local dealers.\n \n\nPlant & Tree Giveaways to green up your home & garden\nTree Planting Demonstration/Q & A Session\n“Meet & Greet” with birds of prey hosted by Northern Illinois Raptor Rehab & Education\nTouch-A-Truck Exhibit\nHefty ReNew Recycling Starter Kit Giveaway\nConfidential Document Shredding (No businesses; limit four banker’s boxes/bags per vehicle)\nBicycle Recycling courtesy of Working Bikes(Adult bikes accepted in repairable condition or gently-used kids bikes\, bike parts\, tools\, and accessories)\nElectric Vehicle Showcase-Find a list of participating vehicles here.
URL:https://gogreendeerfield.org/event/highland-park-ev-show-and-arbor-day-celebration/
LOCATION:Ravinia Festival West Parking Lot\, 301 Ravinia Park Rd\, Highland Park\, il\, 60035
END:VEVENT
BEGIN:VEVENT
DTSTART;TZID=America/Chicago:20250510T090000
DTEND;TZID=America/Chicago:20250510T120000
DTSTAMP:20260424T004434
CREATED:20250419T024601Z
LAST-MODIFIED:20250419T025212Z
UID:2278-1746867600-1746878400@gogreendeerfield.org
SUMMARY:2025 Chicago River Day in Deerfield
DESCRIPTION:Every year since 1992\, thousands of volunteers come together on Chicago River Day to remove litter and care for river-adjacent lands. You can make a difference by volunteering at this fun\, free\, family-friendly annual stewardship day.  \nGo Green Deerfield is excited to once again host two Chicago River Day locations here in our own backyard! We will be doing stewardship activities like trail building\, mulching and removing invasive species\, and collecting litter.
URL:https://gogreendeerfield.org/event/2025-chicago-river-day-in-deerfield/
LOCATION:Briarwood Park & Trinity Woods\, Deerfield\, Deerfield
END:VEVENT
BEGIN:VEVENT
DTSTART;VALUE=DATE:20250516
DTEND;VALUE=DATE:20250519
DTSTAMP:20260424T004434
CREATED:20250505T014250Z
LAST-MODIFIED:20250505T014250Z
UID:2364-1747353600-1747612799@gogreendeerfield.org
SUMMARY:SWALCO Compost Giveaway - Deerfield
DESCRIPTION:The Village of Deerfield is partnering with SWALCO to provide free\, locally-sourced compost soil to local residents as part of International Compost Awareness week. \nResidents are welcome to come by any time May 16th through the 18th to pick up compost (while supplies last). Shovels will be available but residents should bring their own containers (20 gallons max). \n  \n  \n  \n 
URL:https://gogreendeerfield.org/event/swalco-compost-giveaway-deerfield/
LOCATION:Deerfield Metra Parking Lot\, 1415 Elm Street\, Deerfield\, IL\, 60015\, United States
END:VEVENT
END:VCALENDAR