BEGIN:VCALENDAR
VERSION:2.0
PRODID:-//Go Green Deerfield - ECPv6.15.20//NONSGML v1.0//EN
CALSCALE:GREGORIAN
METHOD:PUBLISH
X-WR-CALNAME:Go Green Deerfield
X-ORIGINAL-URL:https://gogreendeerfield.org
X-WR-CALDESC:Events for Go Green Deerfield
REFRESH-INTERVAL;VALUE=DURATION:PT1H
X-Robots-Tag:noindex
X-PUBLISHED-TTL:PT1H
BEGIN:VTIMEZONE
TZID:America/Chicago
BEGIN:DAYLIGHT
TZOFFSETFROM:-0600
TZOFFSETTO:-0500
TZNAME:CDT
DTSTART:20230312T080000
END:DAYLIGHT
BEGIN:STANDARD
TZOFFSETFROM:-0500
TZOFFSETTO:-0600
TZNAME:CST
DTSTART:20231105T070000
END:STANDARD
BEGIN:DAYLIGHT
TZOFFSETFROM:-0600
TZOFFSETTO:-0500
TZNAME:CDT
DTSTART:20240310T080000
END:DAYLIGHT
BEGIN:STANDARD
TZOFFSETFROM:-0500
TZOFFSETTO:-0600
TZNAME:CST
DTSTART:20241103T070000
END:STANDARD
BEGIN:DAYLIGHT
TZOFFSETFROM:-0600
TZOFFSETTO:-0500
TZNAME:CDT
DTSTART:20250309T080000
END:DAYLIGHT
BEGIN:STANDARD
TZOFFSETFROM:-0500
TZOFFSETTO:-0600
TZNAME:CST
DTSTART:20251102T070000
END:STANDARD
END:VTIMEZONE
BEGIN:VEVENT
DTSTART;TZID=America/Chicago:20241011T120000
DTEND;TZID=America/Chicago:20241011T130000
DTSTAMP:20260424T103616
CREATED:20241011T023156Z
LAST-MODIFIED:20241011T023246Z
UID:2266-1728648000-1728651600@gogreendeerfield.org
SUMMARY:IEC Town Hall with representative Bob Morgan
DESCRIPTION:
URL:https://gogreendeerfield.org/event/iec-town-hall-with-representative-bob-morgan/
LOCATION:Il
ATTACH;FMTTYPE=image/jpeg:https://gogreendeerfield.org/wp-content/uploads/2024/10/IRA-TH-10.11.24_Flyer-UPDATED.jpg
END:VEVENT
END:VCALENDAR