BEGIN:VCALENDAR
VERSION:2.0
PRODID:-//Go Green Deerfield - ECPv6.15.20//NONSGML v1.0//EN
CALSCALE:GREGORIAN
METHOD:PUBLISH
X-WR-CALNAME:Go Green Deerfield
X-ORIGINAL-URL:https://gogreendeerfield.org
X-WR-CALDESC:Events for Go Green Deerfield
REFRESH-INTERVAL;VALUE=DURATION:PT1H
X-Robots-Tag:noindex
X-PUBLISHED-TTL:PT1H
BEGIN:VTIMEZONE
TZID:America/Chicago
BEGIN:DAYLIGHT
TZOFFSETFROM:-0600
TZOFFSETTO:-0500
TZNAME:CDT
DTSTART:20180311T080000
END:DAYLIGHT
BEGIN:STANDARD
TZOFFSETFROM:-0500
TZOFFSETTO:-0600
TZNAME:CST
DTSTART:20181104T070000
END:STANDARD
BEGIN:DAYLIGHT
TZOFFSETFROM:-0600
TZOFFSETTO:-0500
TZNAME:CDT
DTSTART:20190310T080000
END:DAYLIGHT
BEGIN:STANDARD
TZOFFSETFROM:-0500
TZOFFSETTO:-0600
TZNAME:CST
DTSTART:20191103T070000
END:STANDARD
BEGIN:DAYLIGHT
TZOFFSETFROM:-0600
TZOFFSETTO:-0500
TZNAME:CDT
DTSTART:20200308T080000
END:DAYLIGHT
BEGIN:STANDARD
TZOFFSETFROM:-0500
TZOFFSETTO:-0600
TZNAME:CST
DTSTART:20201101T070000
END:STANDARD
END:VTIMEZONE
BEGIN:VEVENT
DTSTART;TZID=America/Chicago:20190407T140000
DTEND;TZID=America/Chicago:20190407T160000
DTSTAMP:20260424T093204
CREATED:20190330T005131Z
LAST-MODIFIED:20190331T152054Z
UID:768-1554645600-1554652800@gogreendeerfield.org
SUMMARY:Go Green Deerfield Open House
DESCRIPTION:Join us Sunday\, April 7 from 2-4pm at the Deerfield Public Library\, as we Go All In to grow a greener Deerfield.\nMeet Go Green Deerfield. We are Deerfield residents striving to make a positive environmental impact in our community by advocating for renewable energy\, the reduction of greenhouse gas emissions\, promoting native plants and trees\, and much\, much more.\nDiscover this new community action partner who can help you plug into environmental sustainability projects\, both large and small in Deerfield. \nJoin your neighbors for this important conversation\, and be a part of a growing movement to foster community wide sustainability.\nBring the family and invite the neighbors! This event will be interesting\, inclusive and interactive. \nPlease RSVP. Space is limited and we want to make sure you have the opportunity to be part of the conversation. \nWe look forward to seeing you on April 7! \nGGD Collaboration Team –\nArt\, Deb\, George\, Camilla\, John\, Amy\, Chris
URL:https://gogreendeerfield.org/event/go-green-deerfield-open-house/
LOCATION:Deerfield Public Library\, 920 Waukegan Road\, Deerfield\, IL\, 60015
END:VEVENT
END:VCALENDAR