BEGIN:VCALENDAR
VERSION:2.0
PRODID:-//Go Green Deerfield - ECPv6.15.20//NONSGML v1.0//EN
CALSCALE:GREGORIAN
METHOD:PUBLISH
X-WR-CALNAME:Go Green Deerfield
X-ORIGINAL-URL:https://gogreendeerfield.org
X-WR-CALDESC:Events for Go Green Deerfield
REFRESH-INTERVAL;VALUE=DURATION:PT1H
X-Robots-Tag:noindex
X-PUBLISHED-TTL:PT1H
BEGIN:VTIMEZONE
TZID:America/Chicago
BEGIN:DAYLIGHT
TZOFFSETFROM:-0600
TZOFFSETTO:-0500
TZNAME:CDT
DTSTART:20240310T080000
END:DAYLIGHT
BEGIN:STANDARD
TZOFFSETFROM:-0500
TZOFFSETTO:-0600
TZNAME:CST
DTSTART:20241103T070000
END:STANDARD
BEGIN:DAYLIGHT
TZOFFSETFROM:-0600
TZOFFSETTO:-0500
TZNAME:CDT
DTSTART:20250309T080000
END:DAYLIGHT
BEGIN:STANDARD
TZOFFSETFROM:-0500
TZOFFSETTO:-0600
TZNAME:CST
DTSTART:20251102T070000
END:STANDARD
BEGIN:DAYLIGHT
TZOFFSETFROM:-0600
TZOFFSETTO:-0500
TZNAME:CDT
DTSTART:20260308T080000
END:DAYLIGHT
BEGIN:STANDARD
TZOFFSETFROM:-0500
TZOFFSETTO:-0600
TZNAME:CST
DTSTART:20261101T070000
END:STANDARD
BEGIN:DAYLIGHT
TZOFFSETFROM:-0600
TZOFFSETTO:-0500
TZNAME:CDT
DTSTART:20270314T080000
END:DAYLIGHT
BEGIN:STANDARD
TZOFFSETFROM:-0500
TZOFFSETTO:-0600
TZNAME:CST
DTSTART:20271107T070000
END:STANDARD
END:VTIMEZONE
BEGIN:VEVENT
DTSTART;TZID=America/Chicago:20250702T190000
DTEND;TZID=America/Chicago:20250702T200000
DTSTAMP:20260424T061324
CREATED:20250627T025743Z
LAST-MODIFIED:20250627T025743Z
UID:2411-1751482800-1751486400@gogreendeerfield.org
SUMMARY:Go Green Deerfield Monthly Meeting
DESCRIPTION:Go Green Deerfield’s monthly meetings are open to the public and everyone is encouraged to attend. Meetings are informal and attending a meeting is a great way to learn more about what GGD does and how you can get involved. \nOur next GGD meeting will be next Tues\, 7/1\, at 7:00 PM in the library Board Room. \nThe following meeting will be Thurs 7/24\, at 7:00 PM in library Room C. 
URL:https://gogreendeerfield.org/event/go-green-deerfield-monthly-meeting-3/
LOCATION:Deerfield Public Library\, 920 Waukegan Road\, Deerfield\, IL\, 60015
END:VEVENT
BEGIN:VEVENT
DTSTART;TZID=America/Chicago:20250705T090000
DTEND;TZID=America/Chicago:20250705T150000
DTSTAMP:20260424T061324
CREATED:20250627T025132Z
LAST-MODIFIED:20250627T025308Z
UID:2406-1751706000-1751727600@gogreendeerfield.org
SUMMARY:Lake Bluff Native Habitat Walk
DESCRIPTION:Growing Native Habitat Lake Bluff hosts a native habitat walk. Beginning at the Artesian Park Demonstration Garden\, the walk features two properties on the east side of Lake Bluff From 9-11 AM and two properties in the Knollwood neighborhood from 1-3 PM. \nFOR FURTHER INFORMATION\, CONTACT US AT growingnativegardenslb@gmail.com.
URL:https://gogreendeerfield.org/event/lake-bluff-native-habitat-walk/
LOCATION:Il
END:VEVENT
BEGIN:VEVENT
DTSTART;TZID=America/Chicago:20250712T120000
DTEND;TZID=America/Chicago:20250712T160000
DTSTAMP:20260424T061324
CREATED:20250627T030212Z
LAST-MODIFIED:20250627T030212Z
UID:2413-1752321600-1752336000@gogreendeerfield.org
SUMMARY:Go Green Highland Park Native Garden Tour
DESCRIPTION:Join Go Green Highland Park for a free native plant garden tour on Saturday\, July 12\, 12-4 p.m. (rain date: Sun\, July 13). Register today! Sign up here and A URL to a map of the five gardens will be emailed several days before the event\, along with a list of host site addresses. \nTo respect our hosts’ privacy prior to the event\, a tour map of the five gardens will only be posted on our website from July 10 through the end of the tour.
URL:https://gogreendeerfield.org/event/go-green-highland-park-native-garden-tour/
LOCATION:Il
END:VEVENT
BEGIN:VEVENT
DTSTART;TZID=America/Chicago:20250713T100000
DTEND;TZID=America/Chicago:20250713T140000
DTSTAMP:20260424T061324
CREATED:20250627T030522Z
LAST-MODIFIED:20250627T030522Z
UID:2417-1752400800-1752415200@gogreendeerfield.org
SUMMARY:Winnetka Yards That Work Sustainable Yard Tour
DESCRIPTION:Go Green Winnetka is honored to host its fifth Yards That Work Sustainable Yard Tour on Sunday\, July 13\, from 10 am – 2 pm. The tour will feature four yards designed to spark the imagination and show the possibilities of sustainable living in your own backyard. From an Environmental and Forestry Commission Green Award winner to a three-acre Backyard Flower Lab\, there’s something for everyone to enjoy and be moved by. Mark your calendars. You won’t want to miss this one! \n  \nCheck back here soon for more information.
URL:https://gogreendeerfield.org/event/winnetka-yards-that-work-sustainable-yard-tour/
LOCATION:Il
END:VEVENT
BEGIN:VEVENT
DTSTART;TZID=America/Chicago:20251004T100000
DTEND;TZID=America/Chicago:20251004T110000
DTSTAMP:20260424T061324
CREATED:20250925T024641Z
LAST-MODIFIED:20250925T024743Z
UID:2442-1759572000-1759575600@gogreendeerfield.org
SUMMARY:Healthy Hedges & Buckthorn Removal Presentation
DESCRIPTION:Mark your calendars for October 4 and head to the Deerfield Public Library for an engaging event with the Village of Deerfield Sustainability Commission. Dive into the world of restoration ecology with Matt Ueltzen\, Manager of Restoration Ecology\, and Brett Peto\, Environmental Communications Specialist\, from Lake County Forest Preserves. Learn how to conquer pesky invasive buckthorn and discover some fantastic native plant alternatives. This is your chance to pick up handy tips\, meet fellow nature enthusiasts and chat about making your green spaces thrive.
URL:https://gogreendeerfield.org/event/2442/
LOCATION:Deerfield Public Library\, 920 Waukegan Road\, Deerfield\, IL\, 60015
END:VEVENT
BEGIN:VEVENT
DTSTART;TZID=America/Chicago:20260217T180000
DTEND;TZID=America/Chicago:20260217T193000
DTSTAMP:20260424T061324
CREATED:20260213T162646Z
LAST-MODIFIED:20260213T162646Z
UID:2532-1771351200-1771356600@gogreendeerfield.org
SUMMARY:Winter Seed Sowing Presentation
DESCRIPTION:Join Joanna Swidzinski from Go Green Mount Prospect for a hands-on Winter Sowing workshop and discover the magic of growing plants outdoors during the cold months! \nYou’ll explore the science behind this low-cost\, sustainable gardening method and learn tips for successful spring growth. You will leave the class with your very own milk jug of sown seeds.
URL:https://gogreendeerfield.org/event/winter-seed-sowing-presentation/
LOCATION:Deerfield Public Library\, 920 Waukegan Road\, Deerfield\, IL\, 60015
ATTACH;FMTTYPE=image/png:https://gogreendeerfield.org/wp-content/uploads/2026/02/Deerfield-Library.png
END:VEVENT
BEGIN:VEVENT
DTSTART;TZID=America/Chicago:20260307T100000
DTEND;TZID=America/Chicago:20260307T113000
DTSTAMP:20260424T061324
CREATED:20260303T022726Z
LAST-MODIFIED:20260303T022726Z
UID:2537-1772877600-1772883000@gogreendeerfield.org
SUMMARY:Deerfield Library Presentation: Nuclear Power: Why Now?
DESCRIPTION:CITIZENS’ CLIMATE LOBBY – HIGHLAND PARK/DEERFIELD CHAPTER\nInvites you to join us for a presentation and discussion:\n“NUCLEAR POWER: WHY NOW?”\nPresented by Tom Rausch \, retired Exelon Nuclear Engineer and former Illinois Radiation Safety Officer\nSaturday March 7th\, 10:00 am – 11:15 am\nDeerfield Public Library\n920 Waukegan Road\, Deerfield IL\nMeeting Room Lower Level\nOpen to the General Public\nWe look forward to seeing you!
URL:https://gogreendeerfield.org/event/deerfield-library-presentation-nuclear-power-why-now/
LOCATION:Deerfield Public Library\, 920 Waukegan Road\, Deerfield\, IL\, 60015
ATTACH;FMTTYPE=image/png:https://gogreendeerfield.org/wp-content/uploads/2026/02/Deerfield-Library.png
END:VEVENT
BEGIN:VEVENT
DTSTART;TZID=America/Chicago:20260312T180000
DTEND;TZID=America/Chicago:20260312T193000
DTSTAMP:20260424T061324
CREATED:20260213T163118Z
LAST-MODIFIED:20260213T163120Z
UID:2535-1773338400-1773343800@gogreendeerfield.org
SUMMARY:Invasive Species\, Native Landscaping\, and You
DESCRIPTION:What are the top 13 invasive plant species found in Lake County? \n\n\n\n\n\n\nLearn identifying characteristics\, practical tips and the best times of year to manage them. Plus\, discover key steps to introduce native flowers\, shrubs and trees into your home landscape.
URL:https://gogreendeerfield.org/event/invasive-species-native-landscaping-and-you/
LOCATION:Deerfield Public Library\, 920 Waukegan Road\, Deerfield\, IL\, 60015
ATTACH;FMTTYPE=image/png:https://gogreendeerfield.org/wp-content/uploads/2026/02/Deerfield-Library.png
END:VEVENT
BEGIN:VEVENT
DTSTART;TZID=America/Chicago:20260425T090000
DTEND;TZID=America/Chicago:20260425T110000
DTSTAMP:20260424T061324
CREATED:20260411T190057Z
LAST-MODIFIED:20260411T190057Z
UID:2553-1777107600-1777114800@gogreendeerfield.org
SUMMARY:Go Green Highland Park's EV Car Show
DESCRIPTION:Come join us on April 25th from 9-11 am in the Ravinia Festival west parking lot (entrance off of Green Bay Rd). We’re having our annual EV show\, in conjunction with the City of Highland Park’s Arbor Day event. We will have many EV models from many makers\, including some new for 2026 models. If you are an EV driver we’d love to have you come and share your story. If you want to learn more about EVs or looking for your next vehicle\, this is the place to be.
URL:https://gogreendeerfield.org/event/go-green-highland-parks-ev-car-show/
LOCATION:Ravinia Festival West Parking Lot\, 301 Ravinia Park Rd\, Highland Park\, il\, 60035
ATTACH;FMTTYPE=application/pdf:https://gogreendeerfield.org/wp-content/uploads/2026/04/EV-Charger-April-25-2026-pdf.pdf
END:VEVENT
BEGIN:VEVENT
DTSTART;TZID=America/Chicago:20260503T130000
DTEND;TZID=America/Chicago:20260503T153000
DTSTAMP:20260424T061324
CREATED:20260411T191304Z
LAST-MODIFIED:20260411T191339Z
UID:2556-1777813200-1777822200@gogreendeerfield.org
SUMMARY:Birds\, Butterflies and Blooms with Doug Tallamy
DESCRIPTION:Dr. Doug Tallamy\, renowned expert on natural ecosystems and co-founder of Homegrown National Park\, will present insights into surprising natural processes unfolding in our own yards. Dr. Tallamy is an entomologist\, conservationist\, and professor at the University of Delaware\, whose work has transformed our understanding of the relationship between native plants and wildlife. \nAfter the presentation\, attendees can speak with experts and enthusiasts from the local organizations represented to ask more about how our yards interact with native savannas\, wetlands\, prairies\, and woodlands that surround us. These experts will provide helpful information about topics such as introducing more native plants to your yard\, providing habitat for birds and pollinators\, deterring pests and managing weeds in environmentally safer ways\, using autumn leaves to promote beneficial life and more. \nHosted by League of Women Voters of Lake Forest/Lake Bluff Area \nREGISTRATION REQUIRED – Use the link to register. \n$10 per individual\, $15 per family. Space is limited. \nAttendees can sign up at the event to win a “Prairie in the Garden” tour for 6 with Bill Kurtis and Donna LaPietra. Tours to other local native gardens will be offered.
URL:https://gogreendeerfield.org/event/birds-butterflies-and-blooms-with-doug-tallamy/
LOCATION:Lake Forest Country Day School\, 145 South Green Bay Road\, Lake Forest\, 60045
ATTACH;FMTTYPE=image/png:https://gogreendeerfield.org/wp-content/uploads/2026/04/Birds-Butterflies-and-Blooms.png
END:VEVENT
BEGIN:VEVENT
DTSTART;TZID=America/Chicago:20260515T090000
DTEND;TZID=America/Chicago:20260516T140000
DTSTAMP:20260424T061324
CREATED:20260421T011013Z
LAST-MODIFIED:20260421T011239Z
UID:2582-1778835600-1778940000@gogreendeerfield.org
SUMMARY:Northbrook Garden Club Plant Sale
DESCRIPTION:Friday\, May 15th\, 9:00am to 4:00pm and Saturday\, May 16th\, 9:00am to 2:00pm  \nNorthbrook Village Green Park Center – 1810 Walters Avenue \nGardeners! Shop local for beautiful\, well-behaved homegrown + nursery grown native plants\, cultivars and favorites from our gardens to yours. Experienced & master gardeners available for gardening tips in our rain resistant indoor location. Email questions to info@northbrookgardenclub.org. \n 
URL:https://gogreendeerfield.org/event/northbrook-garden-club-plant-sale/
LOCATION:Northbrook Village Green Park Center\, 1810 Walters Avenue\, Northbrook\, Il\, 60062
ATTACH;FMTTYPE=image/jpeg:https://gogreendeerfield.org/wp-content/uploads/2026/04/Northbrook-Garden-Sale-e1776733915164.jpeg
ORGANIZER;CN="Northbrook Garden Club":MAILTO:info@northbrookgardenclub.org
END:VEVENT
END:VCALENDAR