BEGIN:VCALENDAR
VERSION:2.0
PRODID:-//Go Green Deerfield - ECPv6.15.20//NONSGML v1.0//EN
CALSCALE:GREGORIAN
METHOD:PUBLISH
X-WR-CALNAME:Go Green Deerfield
X-ORIGINAL-URL:https://gogreendeerfield.org
X-WR-CALDESC:Events for Go Green Deerfield
REFRESH-INTERVAL;VALUE=DURATION:PT1H
X-Robots-Tag:noindex
X-PUBLISHED-TTL:PT1H
BEGIN:VTIMEZONE
TZID:America/Chicago
BEGIN:DAYLIGHT
TZOFFSETFROM:-0600
TZOFFSETTO:-0500
TZNAME:CDT
DTSTART:20250309T080000
END:DAYLIGHT
BEGIN:STANDARD
TZOFFSETFROM:-0500
TZOFFSETTO:-0600
TZNAME:CST
DTSTART:20251102T070000
END:STANDARD
BEGIN:DAYLIGHT
TZOFFSETFROM:-0600
TZOFFSETTO:-0500
TZNAME:CDT
DTSTART:20260308T080000
END:DAYLIGHT
BEGIN:STANDARD
TZOFFSETFROM:-0500
TZOFFSETTO:-0600
TZNAME:CST
DTSTART:20261101T070000
END:STANDARD
BEGIN:DAYLIGHT
TZOFFSETFROM:-0600
TZOFFSETTO:-0500
TZNAME:CDT
DTSTART:20270314T080000
END:DAYLIGHT
BEGIN:STANDARD
TZOFFSETFROM:-0500
TZOFFSETTO:-0600
TZNAME:CST
DTSTART:20271107T070000
END:STANDARD
END:VTIMEZONE
BEGIN:VEVENT
DTSTART;TZID=America/Chicago:20260425T090000
DTEND;TZID=America/Chicago:20260425T110000
DTSTAMP:20260423T110308
CREATED:20260411T190057Z
LAST-MODIFIED:20260411T190057Z
UID:2553-1777107600-1777114800@gogreendeerfield.org
SUMMARY:Go Green Highland Park's EV Car Show
DESCRIPTION:Come join us on April 25th from 9-11 am in the Ravinia Festival west parking lot (entrance off of Green Bay Rd). We’re having our annual EV show\, in conjunction with the City of Highland Park’s Arbor Day event. We will have many EV models from many makers\, including some new for 2026 models. If you are an EV driver we’d love to have you come and share your story. If you want to learn more about EVs or looking for your next vehicle\, this is the place to be.
URL:https://gogreendeerfield.org/event/go-green-highland-parks-ev-car-show/
LOCATION:Ravinia Festival West Parking Lot\, 301 Ravinia Park Rd\, Highland Park\, il\, 60035
ATTACH;FMTTYPE=application/pdf:https://gogreendeerfield.org/wp-content/uploads/2026/04/EV-Charger-April-25-2026-pdf.pdf
END:VEVENT
END:VCALENDAR