BEGIN:VCALENDAR
VERSION:2.0
PRODID:-//Go Green Deerfield - ECPv6.15.20//NONSGML v1.0//EN
CALSCALE:GREGORIAN
METHOD:PUBLISH
X-WR-CALNAME:Go Green Deerfield
X-ORIGINAL-URL:https://gogreendeerfield.org
X-WR-CALDESC:Events for Go Green Deerfield
REFRESH-INTERVAL;VALUE=DURATION:PT1H
X-Robots-Tag:noindex
X-PUBLISHED-TTL:PT1H
BEGIN:VTIMEZONE
TZID:America/Chicago
BEGIN:DAYLIGHT
TZOFFSETFROM:-0600
TZOFFSETTO:-0500
TZNAME:CDT
DTSTART:20240310T080000
END:DAYLIGHT
BEGIN:STANDARD
TZOFFSETFROM:-0500
TZOFFSETTO:-0600
TZNAME:CST
DTSTART:20241103T070000
END:STANDARD
BEGIN:DAYLIGHT
TZOFFSETFROM:-0600
TZOFFSETTO:-0500
TZNAME:CDT
DTSTART:20250309T080000
END:DAYLIGHT
BEGIN:STANDARD
TZOFFSETFROM:-0500
TZOFFSETTO:-0600
TZNAME:CST
DTSTART:20251102T070000
END:STANDARD
BEGIN:DAYLIGHT
TZOFFSETFROM:-0600
TZOFFSETTO:-0500
TZNAME:CDT
DTSTART:20260308T080000
END:DAYLIGHT
BEGIN:STANDARD
TZOFFSETFROM:-0500
TZOFFSETTO:-0600
TZNAME:CST
DTSTART:20261101T070000
END:STANDARD
END:VTIMEZONE
BEGIN:VEVENT
DTSTART;TZID=America/Chicago:20250702T190000
DTEND;TZID=America/Chicago:20250702T200000
DTSTAMP:20260423T233433
CREATED:20250627T025743Z
LAST-MODIFIED:20250627T025743Z
UID:2411-1751482800-1751486400@gogreendeerfield.org
SUMMARY:Go Green Deerfield Monthly Meeting
DESCRIPTION:Go Green Deerfield’s monthly meetings are open to the public and everyone is encouraged to attend. Meetings are informal and attending a meeting is a great way to learn more about what GGD does and how you can get involved. \nOur next GGD meeting will be next Tues\, 7/1\, at 7:00 PM in the library Board Room. \nThe following meeting will be Thurs 7/24\, at 7:00 PM in library Room C. 
URL:https://gogreendeerfield.org/event/go-green-deerfield-monthly-meeting-3/
LOCATION:Deerfield Public Library\, 920 Waukegan Road\, Deerfield\, IL\, 60015
END:VEVENT
END:VCALENDAR