BEGIN:VCALENDAR
VERSION:2.0
PRODID:-//Go Green Deerfield - ECPv6.15.20//NONSGML v1.0//EN
CALSCALE:GREGORIAN
METHOD:PUBLISH
X-WR-CALNAME:Go Green Deerfield
X-ORIGINAL-URL:https://gogreendeerfield.org
X-WR-CALDESC:Events for Go Green Deerfield
REFRESH-INTERVAL;VALUE=DURATION:PT1H
X-Robots-Tag:noindex
X-PUBLISHED-TTL:PT1H
BEGIN:VTIMEZONE
TZID:America/Chicago
BEGIN:DAYLIGHT
TZOFFSETFROM:-0600
TZOFFSETTO:-0500
TZNAME:CDT
DTSTART:20240310T080000
END:DAYLIGHT
BEGIN:STANDARD
TZOFFSETFROM:-0500
TZOFFSETTO:-0600
TZNAME:CST
DTSTART:20241103T070000
END:STANDARD
BEGIN:DAYLIGHT
TZOFFSETFROM:-0600
TZOFFSETTO:-0500
TZNAME:CDT
DTSTART:20250309T080000
END:DAYLIGHT
BEGIN:STANDARD
TZOFFSETFROM:-0500
TZOFFSETTO:-0600
TZNAME:CST
DTSTART:20251102T070000
END:STANDARD
BEGIN:DAYLIGHT
TZOFFSETFROM:-0600
TZOFFSETTO:-0500
TZNAME:CDT
DTSTART:20260308T080000
END:DAYLIGHT
BEGIN:STANDARD
TZOFFSETFROM:-0500
TZOFFSETTO:-0600
TZNAME:CST
DTSTART:20261101T070000
END:STANDARD
END:VTIMEZONE
BEGIN:VEVENT
DTSTART;TZID=America/Chicago:20250426T130000
DTEND;TZID=America/Chicago:20250426T160000
DTSTAMP:20260424T032528
CREATED:20250419T023806Z
LAST-MODIFIED:20250419T024015Z
UID:2271-1745672400-1745683200@gogreendeerfield.org
SUMMARY:Earth & Arbor Day Celebration
DESCRIPTION:Riverwoods Preservation Council presents a fun-filled celebration of Earth Day and Arbor Day as we honor our planet and its incredible trees! 🌱🌎\nCome together for an afternoon of music\, activities\, sustainability market\, connect with locals\, and cake (because who doesn’t love cake? 🎂)! Let’s get our hands dirty\, learn something new\, and make the world a greener place—one tree at a time.\n🌿 When: Saturday April 26\, 1-4pm\n🌿 Where: Riverwoods Village Hall\n🌿 What to bring: A love for the Earth\, a friend\, and a positive attitude!\nSee you there for a green celebration to rememb \n \ner!
URL:https://gogreendeerfield.org/event/earth-arbor-day-celebration/
LOCATION:Riverwoods Village Hall\, 300 Portwine Rd.\, Riverwoods\, IL\, 60015
END:VEVENT
END:VCALENDAR